BEGIN:VCALENDAR
VERSION:2.0
PRODID:-//Wedding Fairs North East - ECPv6.15.20//NONSGML v1.0//EN
CALSCALE:GREGORIAN
METHOD:PUBLISH
X-WR-CALNAME:Wedding Fairs North East
X-ORIGINAL-URL:https://weddingfairsnortheast.com
X-WR-CALDESC:Events for Wedding Fairs North East
REFRESH-INTERVAL;VALUE=DURATION:PT1H
X-Robots-Tag:noindex
X-PUBLISHED-TTL:PT1H
BEGIN:VTIMEZONE
TZID:Europe/London
BEGIN:DAYLIGHT
TZOFFSETFROM:+0000
TZOFFSETTO:+0100
TZNAME:BST
DTSTART:20230326T010000
END:DAYLIGHT
BEGIN:STANDARD
TZOFFSETFROM:+0100
TZOFFSETTO:+0000
TZNAME:GMT
DTSTART:20231029T010000
END:STANDARD
BEGIN:DAYLIGHT
TZOFFSETFROM:+0000
TZOFFSETTO:+0100
TZNAME:BST
DTSTART:20240331T010000
END:DAYLIGHT
BEGIN:STANDARD
TZOFFSETFROM:+0100
TZOFFSETTO:+0000
TZNAME:GMT
DTSTART:20241027T010000
END:STANDARD
BEGIN:DAYLIGHT
TZOFFSETFROM:+0000
TZOFFSETTO:+0100
TZNAME:BST
DTSTART:20250330T010000
END:DAYLIGHT
BEGIN:STANDARD
TZOFFSETFROM:+0100
TZOFFSETTO:+0000
TZNAME:GMT
DTSTART:20251026T010000
END:STANDARD
END:VTIMEZONE
BEGIN:VEVENT
DTSTART;TZID=Europe/London:20240121T110000
DTEND;TZID=Europe/London:20240121T143000
DTSTAMP:20260425T214816
CREATED:20231010T121228Z
LAST-MODIFIED:20231010T121228Z
UID:7911-1705834800-1705847400@weddingfairsnortheast.com
SUMMARY:Great North Wedding Show Sun 21st January 2024
DESCRIPTION:  \n\n\n\n\n\n\n\n\n  \nGreat North Wedding Show  \nHilton Newcastle Gateshead \nSunday 21st January 2024 \nFollowing on from the fabulous events we have had here recently with a record number of bookings for some exhibitors\, we are delighted to announce the return of the renowned Great North Wedding Show with a vast array of fabulous exhibitors and fantastic catwalk fashion show and entertainment returns to Hilton Newcastle Gateshead on Sunday 21st January 2024 11 am til 2.30 pm. \nWe will have some amazing new exhibitors and the original catwalk & fashion show will make this one another event to remember.\n \nThe fantastic Alexander Lomas will host the event and announce there will be some fabulous entertainment.\n \nYOUR TICKET INCLUDES A FREE WEDDING PLANNING WEBSITE &\nCHECKLIST FOR COUPLES TO ORGANISE YOUR WEDDINGS TOO!\n save you time queuing when you arrive and early access to exhibitor stands.\n \n Standard Tickets will start at £5 per person after Early Bird tickets are taken.\n \nTickets Include a FREE Couples Wedding Planning Website with Table Planner\,  Guest List and Budget Planner.\n \nClick To Get Tickets Here\n \nStunning Location overlooking River Tyne & Bridges Fabulous New Exhibitors & Bridal Fashion Show Live Entertainment A Great Day Out ! Several fabulous Venues exhibiting!\n \nWedding Fair  & Exhibitor Enquiries:\nEmail: fairs@weddingfairsnortheast.com\n \nTel: 033 00 100 192\n \nText ‘Exhibit’ & Business Name to 0749 321 345 2\n\n\n\n\n\n\n\n\n\n 
URL:https://weddingfairsnortheast.com/event/great-north-wedding-show-new-year-2024/
LOCATION:Hilton Newcastle Gateshead\, Bottle Bank\, Newcastle upon Tyne\, Tyne and Wear\, NE8 2AR\, United Kingdom
CATEGORIES:Events,Wedding Fairs,Wedding Shows
ATTACH;FMTTYPE=image/jpeg:https://weddingfairsnortheast.com/wp-content/uploads/2022/11/8-1-23-GNWS-NOTEXT.jpeg
ORGANIZER;CN="Wedding Fairs North East":MAILTO:admin@weddingfairsnortheast.com
END:VEVENT
END:VCALENDAR