BEGIN:VCALENDAR
VERSION:2.0
PRODID:-//Wedding Fairs North East - ECPv6.15.20//NONSGML v1.0//EN
CALSCALE:GREGORIAN
METHOD:PUBLISH
X-WR-CALNAME:Wedding Fairs North East
X-ORIGINAL-URL:https://weddingfairsnortheast.com
X-WR-CALDESC:Events for Wedding Fairs North East
REFRESH-INTERVAL;VALUE=DURATION:PT1H
X-Robots-Tag:noindex
X-PUBLISHED-TTL:PT1H
BEGIN:VTIMEZONE
TZID:Europe/London
BEGIN:DAYLIGHT
TZOFFSETFROM:+0000
TZOFFSETTO:+0100
TZNAME:BST
DTSTART:20230326T010000
END:DAYLIGHT
BEGIN:STANDARD
TZOFFSETFROM:+0100
TZOFFSETTO:+0000
TZNAME:GMT
DTSTART:20231029T010000
END:STANDARD
BEGIN:DAYLIGHT
TZOFFSETFROM:+0000
TZOFFSETTO:+0100
TZNAME:BST
DTSTART:20240331T010000
END:DAYLIGHT
BEGIN:STANDARD
TZOFFSETFROM:+0100
TZOFFSETTO:+0000
TZNAME:GMT
DTSTART:20241027T010000
END:STANDARD
BEGIN:DAYLIGHT
TZOFFSETFROM:+0000
TZOFFSETTO:+0100
TZNAME:BST
DTSTART:20250330T010000
END:DAYLIGHT
BEGIN:STANDARD
TZOFFSETFROM:+0100
TZOFFSETTO:+0000
TZNAME:GMT
DTSTART:20251026T010000
END:STANDARD
END:VTIMEZONE
BEGIN:VEVENT
DTSTART;TZID=Europe/London:20240407T120000
DTEND;TZID=Europe/London:20240407T160000
DTSTAMP:20260425T161712
CREATED:20240208T160423Z
LAST-MODIFIED:20240317T022549Z
UID:7972-1712491200-1712505600@weddingfairsnortheast.com
SUMMARY:Confetti & Celebrations: The Weddings & Parties Expo Sun 7th April 2024
DESCRIPTION:Say “I Do” to your dream wedding at St. Mary’s Heritage Centre on Gateshead Quayside! Join us on Sunday 27th April 2025 for a dazzling Wedding Fair /Venue Showcase. Meet  amazing wedding suppliers and discover the magic of this historic church turned breathtaking wedding venue. With stunning views of the Tyne River and Newcastle’s iconic Tyne Bridge\, it’s the perfect venue and backdrop for your unforgettable day. Grab your FREE Group Ticket below now.   \n        				\n				\n				\n				\n					        \n            \n                        \n			            Click FOR FREE GROUP TICKET\n		\n                    \n        \n        				\n				\n					\n		\n					\n		\n				\n						\n					\n			\n						\n				\n					           Photo Credit: Eye of The Tyne Photography              Florals Credit: Flowers Unlimited      
URL:https://weddingfairsnortheast.com/event/confetti-celebrations-the-weddings-parties-expo-sun-7th-april-2024/
LOCATION:Gateshead International Stadium\, Neilson Rd\, Gateshead\, Tyne & Wear\, NE10 0EF\, United Kingdom
CATEGORIES:Events,Wedding Fairs,Wedding Shows
ATTACH;FMTTYPE=image/jpeg:https://weddingfairsnortheast.com/wp-content/uploads/2024/02/4C9B5AD5-01D7-4A05-BFA5-A88CD7F088FE.jpeg
ORGANIZER;CN="Wedding Fairs North East":MAILTO:admin@weddingfairsnortheast.com
END:VEVENT
END:VCALENDAR