BEGIN:VCALENDAR
VERSION:2.0
PRODID:-//Wedding Fairs North East - ECPv6.15.20//NONSGML v1.0//EN
CALSCALE:GREGORIAN
METHOD:PUBLISH
X-WR-CALNAME:Wedding Fairs North East
X-ORIGINAL-URL:https://weddingfairsnortheast.com
X-WR-CALDESC:Events for Wedding Fairs North East
REFRESH-INTERVAL;VALUE=DURATION:PT1H
X-Robots-Tag:noindex
X-PUBLISHED-TTL:PT1H
BEGIN:VTIMEZONE
TZID:Europe/London
BEGIN:DAYLIGHT
TZOFFSETFROM:+0000
TZOFFSETTO:+0100
TZNAME:BST
DTSTART:20220327T010000
END:DAYLIGHT
BEGIN:STANDARD
TZOFFSETFROM:+0100
TZOFFSETTO:+0000
TZNAME:GMT
DTSTART:20221030T010000
END:STANDARD
BEGIN:DAYLIGHT
TZOFFSETFROM:+0000
TZOFFSETTO:+0100
TZNAME:BST
DTSTART:20230326T010000
END:DAYLIGHT
BEGIN:STANDARD
TZOFFSETFROM:+0100
TZOFFSETTO:+0000
TZNAME:GMT
DTSTART:20231029T010000
END:STANDARD
BEGIN:DAYLIGHT
TZOFFSETFROM:+0000
TZOFFSETTO:+0100
TZNAME:BST
DTSTART:20240331T010000
END:DAYLIGHT
BEGIN:STANDARD
TZOFFSETFROM:+0100
TZOFFSETTO:+0000
TZNAME:GMT
DTSTART:20241027T010000
END:STANDARD
END:VTIMEZONE
BEGIN:VEVENT
DTSTART;TZID=Europe/London:20230219T120000
DTEND;TZID=Europe/London:20230219T150000
DTSTAMP:20260421T232009
CREATED:20221115T121831Z
LAST-MODIFIED:20240530T075748Z
UID:7688-1676808000-1676818800@weddingfairsnortheast.com
SUMMARY:Beamish Hall Wedding Fair Sunday 19th February 2023
DESCRIPTION:  \nAttend our next Wedding Fair at Beamish Hall located in County Durham\, not only will you see this beautiful venue\, but you will also see a host of excellent local Wedding Suppliers from across the region. The beautiful Monboucher Suite\, Winter Gardens\, and Shafto Hall provide a really breath-taking setting for your wedding. The Winter Gardens Terrace\, nestled among the serene grounds of one of just a few County Durham hotels licenced for outdoor wedding ceremonies\, is the ideal complement to your country house wedding. Get your FREE Early Bird Ticket for Two via this link whilst stocks last and we will send you a FREE  Couples Wedding Planning Website and Budget Planner prior to the Fair. Covid Friendly Scan In Entry and Visitors  App on arrival. Delicious Sunday Lunches as well as other food & drinks will be available in their very own Restaurant & Bar The Stables.  Advance booking for Sunday Lunch is essential to avoid disappointment!   COMPETITION COMING SOON: 
URL:https://weddingfairsnortheast.com/event/beamish-hall-wedding-fair-sunday-19th-february-2023/
LOCATION:Beamish Hall\, Coppy Lane\, Beamish\, Stanley\, County Durham\, DH9 0YB\, United Kingdom
CATEGORIES:Wedding Fairs,Wedding Shows
ATTACH;FMTTYPE=image/jpeg:https://weddingfairsnortheast.com/wp-content/uploads/2022/11/BeamishintheSun.jpeg
ORGANIZER;CN="Wedding Fairs North East":MAILTO:admin@weddingfairsnortheast.com
END:VEVENT
BEGIN:VEVENT
DTSTART;TZID=Europe/London:20230108T110000
DTEND;TZID=Europe/London:20230108T143000
DTSTAMP:20260421T232009
CREATED:20221018T175458Z
LAST-MODIFIED:20240530T075123Z
UID:7666-1673175600-1673188200@weddingfairsnortheast.com
SUMMARY:Great North Wedding Show 8th January 2023
DESCRIPTION:  \nGreat North Wedding Show  \nHilton Newcastle Gateshead \nSunday 8th January 2023 \nFollowing on from the fabulous events we have had here recently with a record number of bookings for some exhibitors\, we are delighted to announce the return of the renowned Great North Wedding Show with a vast array of fabulous exhibitors and fantastic catwalk fashion show and entertainment returns to Hilton Newcastle Gateshead on Sunday 8th January 2023  11 am til 2.30 pm. \nWe will have some amazing new exhibitors and the original catwalk & fashion show will make this one another event to remember.\n \nThe fantastic Alexander Lomas will host the event and announce there will be some fabulous entertainment.\n \nYOUR TICKET INCLUDES A FREE WEDDING PLANNING WEBSITE &\nCHECKLIST FOR COUPLES TO ORGANISE YOUR WEDDINGS TOO!\n \nThere are FREE 12 NOON ENTRY Tickets WHILST STOCKS LAST!\n \n11 AM Entry tickets are £3 each and this will save you time queuing when you arrive and early access to exhibitor stands.\n \nTickets Include a FREE Couples Wedding Planning Website with Table Planner\,  Guest List and Budget Planner.\n \nClick To Get Tickets Here\n \nStunning Location overlooking River Tyne & Bridges Fabulous New Exhibitors & Bridal Fashion Show Live Entertainment A Great Day Out ! Several fabulous Venues exhibiting!\n \nWedding Fair  & Exhibitor Enquiries:\nEmail: fairs@weddingfairsnortheast.com\n \nTel: 033 00 100 192\n \nText ‘Exhibit’ & Business Name to 0749 321 345 2\n\n\n\n\n\n\n\n\n\n 
URL:https://weddingfairsnortheast.com/event/great-north-wedding-show-2023/
LOCATION:Hilton Newcastle Gateshead\, Bottle Bank\, Newcastle upon Tyne\, Tyne and Wear\, NE8 2AR\, United Kingdom
CATEGORIES:Events,Wedding Fairs,Wedding Shows
ATTACH;FMTTYPE=image/jpeg:https://weddingfairsnortheast.com/wp-content/uploads/2022/10/08-01-2023GNWSWeb-header-1000-x-400.jpeg
ORGANIZER;CN="Wedding Fairs North East":MAILTO:admin@weddingfairsnortheast.com
END:VEVENT
END:VCALENDAR